BEGIN:VCALENDAR
VERSION:2.0
METHOD:PUBLISH
CALSCALE:GREGORIAN
PRODID:-//Refresh Web Development//Helios Calendar//EN
X-FROM-URL:https://www.bayareascience.org/calendar/index.php?com=details&eID=37543
X-WR-RELCALID:BayAreaScience.org History of Drawbridge 20250126T153000
X-WR-TIMEZONE:America/New_York
X-WR-CALNAME:BayAreaScience.org
BEGIN:VEVENT
URL;VALUE=URI:https://www.bayareascience.org/calendar/index.php?com=detail&eID=37543
DTSTART:20250126T153000
DTEND:20250126T170000
SUMMARY:History of Drawbridge
DESCRIPTION:Join Ceal Craig\, Ph.D.\, a 20+ year volunteer for the U.S. Fish and Wildlife Service\, for a unique opportunity to dive into the history of Drawbridge\, a historic town that once housed a thriving...\n______________________________\nThis Event Downloaded From a Helios Calendar Powered Site
LOCATION:Don Edwards Refuge Environmental Education Center - 1751 Grand Blvd \, Alviso\, CA  95002
CATEGORIES:BayAreaScience.org Events
PRIORITY:0
TRANSP:TRANSPARENT
END:VEVENT
END:VCALENDAR