BEGIN:VCALENDAR
VERSION:2.0
METHOD:PUBLISH
CALSCALE:GREGORIAN
PRODID:-//Refresh Web Development//Helios Calendar//EN
X-FROM-URL:https://www.bayareascience.org/calendar/index.php?com=details&eID=37544
X-WR-RELCALID:BayAreaScience.org Native Seed Ball Workshop 20250202T103000
X-WR-TIMEZONE:America/New_York
X-WR-CALNAME:BayAreaScience.org
BEGIN:VEVENT
URL;VALUE=URI:https://www.bayareascience.org/calendar/index.php?com=detail&eID=37544
DTSTART:20250202T103000
DTEND:20250202T120000
SUMMARY:Native Seed Ball Workshop
DESCRIPTION:Let's make native wildflower seed balls! Seed balls (or "seed bombs") are an easy and fun way to distribute seeds. We'll use native wildflowers such as California poppies because they support a...\n______________________________\nThis Event Downloaded From a Helios Calendar Powered Site
LOCATION:Don Edwards Refuge Environmental Education Center - 1751 Grand Blvd \, Alviso\, CA  95002
CATEGORIES:BayAreaScience.org Events
PRIORITY:0
TRANSP:TRANSPARENT
END:VEVENT
END:VCALENDAR