BEGIN:VCALENDAR
VERSION:2.0
METHOD:PUBLISH
CALSCALE:GREGORIAN
PRODID:-//Refresh Web Development//Helios Calendar//EN
X-FROM-URL:https://www.bayareascience.org/calendar/index.php?com=details&eID=37565
X-WR-RELCALID:BayAreaScience.org Resilience in Action 20250127T160000
X-WR-TIMEZONE:America/New_York
X-WR-CALNAME:BayAreaScience.org
BEGIN:VEVENT
URL;VALUE=URI:https://www.bayareascience.org/calendar/index.php?com=detail&eID=37565
DTSTART:20250127T160000
DTEND:20250127T180000
SUMMARY:Resilience in Action
DESCRIPTION:The Berkeley Neuro-AI Resilience Center invites you to its inaugural event\, hosted by center directors Professors Daniela Kaufer and Shafi Goldwasser. This evening will highlight the...\n______________________________\nThis Event Downloaded From a Helios Calendar Powered Site
LOCATION:Calvin Laboratory - UC Berkeley Auditorium\, Berkeley\, CA  94720
CATEGORIES:BayAreaScience.org Events
PRIORITY:0
TRANSP:TRANSPARENT
END:VEVENT
END:VCALENDAR