BEGIN:VCALENDAR
VERSION:2.0
METHOD:PUBLISH
CALSCALE:GREGORIAN
PRODID:-//Refresh Web Development//Helios Calendar//EN
X-FROM-URL:https://www.bayareascience.org/calendar/index.php?com=details&eID=37598
X-WR-RELCALID:BayAreaScience.org Bay Area Wildlife Guide - Livestream 20250213T190000
X-WR-TIMEZONE:America/New_York
X-WR-CALNAME:BayAreaScience.org
BEGIN:VEVENT
URL;VALUE=URI:https://www.bayareascience.org/calendar/index.php?com=detail&eID=37598
DTSTART:20250213T190000
DTEND:20250213T210000
SUMMARY:Bay Area Wildlife Guide - Livestream
DESCRIPTION:Jeff Miller will discuss his book Bay Area Wildlife: An Irreverent Guide\, a quirky and entertaining wildlife guide to the greater San Francisco Bay Area\, which invites readers...\n______________________________\nThis Event Downloaded From a Helios Calendar Powered Site
LOCATION:Marin Audubon Society -  \, \, CA  
CATEGORIES:BayAreaScience.org Events
PRIORITY:0
TRANSP:TRANSPARENT
END:VEVENT
END:VCALENDAR