BEGIN:VCALENDAR
VERSION:2.0
METHOD:PUBLISH
CALSCALE:GREGORIAN
PRODID:-//Refresh Web Development//Helios Calendar//EN
X-FROM-URL:https://www.bayareascience.org/calendar/index.php?com=details&eID=37602
X-WR-RELCALID:BayAreaScience.org White Dwards as Probes of Convective Overshoot and Evolved Exoplanetary Systems 20250203T121000
X-WR-TIMEZONE:America/New_York
X-WR-CALNAME:BayAreaScience.org
BEGIN:VEVENT
URL;VALUE=URI:https://www.bayareascience.org/calendar/index.php?com=detail&eID=37602
DTSTART:20250203T121000
DTEND:20250203T130000
SUMMARY:White Dwards as Probes of Convective Overshoot and Evolved Exoplanetary Systems
DESCRIPTION:White dwards are the stellar remnants left behind by the majority of stars.  In 30 - 50% of the population\, material such as asteroids\, comets\, moons\, and even planets from their disrupted planetary...\n______________________________\nThis Event Downloaded From a Helios Calendar Powered Site
LOCATION:Campbell Hall\, Rm 131 - UC Berkeley \, Berkeley\, CA  94720
CATEGORIES:BayAreaScience.org Events
PRIORITY:0
TRANSP:TRANSPARENT
END:VEVENT
END:VCALENDAR