BEGIN:VCALENDAR
VERSION:2.0
METHOD:PUBLISH
CALSCALE:GREGORIAN
PRODID:-//Refresh Web Development//Helios Calendar//EN
X-FROM-URL:https://www.bayareascience.org/calendar/index.php?com=details&eID=37621
X-WR-RELCALID:BayAreaScience.org Wake up to Nature Breakfast Benefit 20250308T093000
X-WR-TIMEZONE:America/New_York
X-WR-CALNAME:BayAreaScience.org
BEGIN:VEVENT
URL;VALUE=URI:https://www.bayareascience.org/calendar/index.php?com=detail&eID=37621
DTSTART:20250308T093000
DTEND:20250308T110000
SUMMARY:Wake up to Nature Breakfast Benefit
DESCRIPTION:We are excited to announce Environmental Volunteers annual Wake Up to Nature breakfast benefit! Join us for a morning of inspiration\, connection\, and celebration of the work that...\n______________________________\nThis Event Downloaded From a Helios Calendar Powered Site
LOCATION:Mitchell Park Community Center - 3700 Middlefield Rd \, Palo Alto\, CA  94303
CATEGORIES:BayAreaScience.org Events
PRIORITY:0
TRANSP:TRANSPARENT
END:VEVENT
END:VCALENDAR