BEGIN:VCALENDAR
VERSION:2.0
METHOD:PUBLISH
CALSCALE:GREGORIAN
PRODID:-//Refresh Web Development//Helios Calendar//EN
X-FROM-URL:https://www.bayareascience.org/calendar/index.php?com=details&eID=37623
X-WR-RELCALID:BayAreaScience.org Galactic Accretion through the Dynamic Circumgalactic Medium 20250303T121000
X-WR-TIMEZONE:America/New_York
X-WR-CALNAME:BayAreaScience.org
BEGIN:VEVENT
URL;VALUE=URI:https://www.bayareascience.org/calendar/index.php?com=detail&eID=37623
DTSTART:20250303T121000
DTEND:20250303T130000
SUMMARY:Galactic Accretion through the Dynamic Circumgalactic Medium
DESCRIPTION:The region of space surrounding galaxies\, the circumgalactic medium (CGM) is the site of all gas flows into and out of galaxies and is therefore responsible for regulating or promoting galaxy growth. ...\n______________________________\nThis Event Downloaded From a Helios Calendar Powered Site
LOCATION:Campbell Hall\, Rm 131 - UC Berkeley \, Berkeley\, CA  94720
CATEGORIES:BayAreaScience.org Events
PRIORITY:0
TRANSP:TRANSPARENT
END:VEVENT
END:VCALENDAR