BEGIN:VCALENDAR
VERSION:2.0
METHOD:PUBLISH
CALSCALE:GREGORIAN
PRODID:-//Refresh Web Development//Helios Calendar//EN
X-FROM-URL:https://www.bayareascience.org/calendar/index.php?com=details&eID=37625
X-WR-RELCALID:BayAreaScience.org Mt. Tamalpais Frog Docent Program Training 20250308T090000
X-WR-TIMEZONE:America/New_York
X-WR-CALNAME:BayAreaScience.org
BEGIN:VEVENT
URL;VALUE=URI:https://www.bayareascience.org/calendar/index.php?com=detail&eID=37625
DTSTART:20250308T090000
DTEND:20250308T160000
SUMMARY:Mt. Tamalpais Frog Docent Program Training
DESCRIPTION:Foothill yellow-legged frogs (Rana boylii) are special because they are only found in isolated ranges in California and nowhere else in the...\n______________________________\nThis Event Downloaded From a Helios Calendar Powered Site
LOCATION:Lake Lagunitas Parking Lot - Sky Oaks Road \, Fairfax\, CA USA 94930
CATEGORIES:BayAreaScience.org Events
PRIORITY:0
TRANSP:TRANSPARENT
END:VEVENT
END:VCALENDAR