BEGIN:VCALENDAR
VERSION:2.0
METHOD:PUBLISH
CALSCALE:GREGORIAN
PRODID:-//Refresh Web Development//Helios Calendar//EN
X-FROM-URL:https://www.bayareascience.org/calendar/index.php?com=details&eID=37628
X-WR-RELCALID:BayAreaScience.org Fire Safe Sonoma Speaker Series - Livestream 20250227T140000
X-WR-TIMEZONE:America/New_York
X-WR-CALNAME:BayAreaScience.org
BEGIN:VEVENT
URL;VALUE=URI:https://www.bayareascience.org/calendar/index.php?com=detail&eID=37628
DTSTART:20250227T140000
DTEND:20250227T140000
SUMMARY:Fire Safe Sonoma Speaker Series - Livestream
DESCRIPTION:Erika Lutz\, Prescribed Fire Information Coordinator for Audubon Canyon Ranch’s Fire Forward program and Devyn Friedfel\, Pepperwood‘s Fire &...\n______________________________\nThis Event Downloaded From a Helios Calendar Powered Site
LOCATION:Audubon Canyon Ranch -  \, \, CA  
CATEGORIES:BayAreaScience.org Events
PRIORITY:0
TRANSP:TRANSPARENT
END:VEVENT
END:VCALENDAR