BEGIN:VCALENDAR
VERSION:2.0
METHOD:PUBLISH
CALSCALE:GREGORIAN
PRODID:-//Refresh Web Development//Helios Calendar//EN
X-FROM-URL:https://www.bayareascience.org/calendar/index.php?com=details&eID=37637
X-WR-RELCALID:BayAreaScience.org In the Footsteps of Galileo - Livestream 20250219T170000
X-WR-TIMEZONE:America/New_York
X-WR-CALNAME:BayAreaScience.org
BEGIN:VEVENT
URL;VALUE=URI:https://www.bayareascience.org/calendar/index.php?com=detail&eID=37637
DTSTART:20250219T170000
DTEND:20250219T183000
SUMMARY:In the Footsteps of Galileo - Livestream
DESCRIPTION:In this 90-minute workshop classroom and informal educators will experience activities recreating the observations Galileo used to promote the heliocentric model of the solar system.When...\n______________________________\nThis Event Downloaded From a Helios Calendar Powered Site
LOCATION:Astronomical Society of the Pacific -  \, \, CA  
CATEGORIES:BayAreaScience.org Events
PRIORITY:0
TRANSP:TRANSPARENT
END:VEVENT
END:VCALENDAR