BEGIN:VCALENDAR
VERSION:2.0
METHOD:PUBLISH
CALSCALE:GREGORIAN
PRODID:-//Refresh Web Development//Helios Calendar//EN
X-FROM-URL:https://www.bayareascience.org/calendar/index.php?com=details&eID=37638
X-WR-RELCALID:BayAreaScience.org Exploring Lunar Eclipses' - Prepare for the Lunar Eclipse on Mar 13/14 - Livestream 20250220T170000
X-WR-TIMEZONE:America/New_York
X-WR-CALNAME:BayAreaScience.org
BEGIN:VEVENT
URL;VALUE=URI:https://www.bayareascience.org/calendar/index.php?com=detail&eID=37638
DTSTART:20250220T170000
DTEND:20250220T183000
SUMMARY:Exploring Lunar Eclipses' - Prepare for the Lunar Eclipse on Mar 13/14 - Livestream
DESCRIPTION:This 90-minute workshop will help prepare you to engage your audiences and/or students in the wonder of the total lunar eclipse visible across North America the night of March 13-14.Unlike...\n______________________________\nThis Event Downloaded From a Helios Calendar Powered Site
LOCATION:Astronomical Society of the Pacific -  \, \, CA  
CATEGORIES:BayAreaScience.org Events
PRIORITY:0
TRANSP:TRANSPARENT
END:VEVENT
END:VCALENDAR