BEGIN:VCALENDAR
VERSION:2.0
METHOD:PUBLISH
CALSCALE:GREGORIAN
PRODID:-//Refresh Web Development//Helios Calendar//EN
X-FROM-URL:https://www.bayareascience.org/calendar/index.php?com=details&eID=37644
X-WR-RELCALID:BayAreaScience.org Searching for Wandering MHBs and Stornly Lensed Transients in the Ear of Rubin, Roman, and Euclid 20250317T121000
X-WR-TIMEZONE:America/New_York
X-WR-CALNAME:BayAreaScience.org
BEGIN:VEVENT
URL;VALUE=URI:https://www.bayareascience.org/calendar/index.php?com=detail&eID=37644
DTSTART:20250317T121000
DTEND:20250317T121000
SUMMARY:Searching for Wandering MHBs and Stornly Lensed Transients in the Ear of Rubin\, Roman\, and Euclid
DESCRIPTION:The Euclid and Roman wide-field surveys conicide with an exciting new era for transient discovery\, in which Rubin Observatory's LSST will indentify thousands of tidal disruption events (TDEs) and...\n______________________________\nThis Event Downloaded From a Helios Calendar Powered Site
LOCATION:Campbell Hall\, Rm 131 - UC Berkeley \, Berkeley\, CA  94720
CATEGORIES:BayAreaScience.org Events
PRIORITY:0
TRANSP:TRANSPARENT
END:VEVENT
END:VCALENDAR