BEGIN:VCALENDAR
VERSION:2.0
METHOD:PUBLISH
CALSCALE:GREGORIAN
PRODID:-//Refresh Web Development//Helios Calendar//EN
X-FROM-URL:https://www.bayareascience.org/calendar/index.php?com=details&eID=37645
X-WR-RELCALID:BayAreaScience.org Probing Young Planet Populations with 3D Self-Consnstent Disk Thermodynamics 20250414T121000
X-WR-TIMEZONE:America/New_York
X-WR-CALNAME:BayAreaScience.org
BEGIN:VEVENT
URL;VALUE=URI:https://www.bayareascience.org/calendar/index.php?com=detail&eID=37645
DTSTART:20250414T121000
DTEND:20250414T121000
SUMMARY:Probing Young Planet Populations with 3D Self-Consnstent Disk Thermodynamics
DESCRIPTION:Protoplanetary disks are the birthplaces of planets.  Over the past decade\, there have been significant advancements in disk observations thanks to the Atacama Large Millimeter Array (ALMA) and...\n______________________________\nThis Event Downloaded From a Helios Calendar Powered Site
LOCATION:Campbell Hall\, Rm 131 - UC Berkeley \, Berkeley\, CA  94720
CATEGORIES:BayAreaScience.org Events
PRIORITY:0
TRANSP:TRANSPARENT
END:VEVENT
END:VCALENDAR