BEGIN:VCALENDAR
VERSION:2.0
METHOD:PUBLISH
CALSCALE:GREGORIAN
PRODID:-//Refresh Web Development//Helios Calendar//EN
X-FROM-URL:https://www.bayareascience.org/calendar/index.php?com=details&eID=37648
X-WR-RELCALID:BayAreaScience.org Mushrooms + Culture of Greece 20250221T180000
X-WR-TIMEZONE:America/New_York
X-WR-CALNAME:BayAreaScience.org
BEGIN:VEVENT
URL;VALUE=URI:https://www.bayareascience.org/calendar/index.php?com=detail&eID=37648
DTSTART:20250221T180000
DTEND:20250221T203000
SUMMARY:Mushrooms + Culture of Greece
DESCRIPTION:Take a visual journey into the diverse and lush natural world of Greece.  Ancient forests\, traditional land-based living still exists\, providing a rich culture weaved...\n______________________________\nThis Event Downloaded From a Helios Calendar Powered Site
LOCATION:Sebastopol Grange - 6000 Sebastopol Ave Hwy 12\, Sebastopol\, CA  95472
CATEGORIES:BayAreaScience.org Events
PRIORITY:0
TRANSP:TRANSPARENT
END:VEVENT
END:VCALENDAR