BEGIN:VCALENDAR
VERSION:2.0
METHOD:PUBLISH
CALSCALE:GREGORIAN
PRODID:-//Refresh Web Development//Helios Calendar//EN
X-FROM-URL:https://www.bayareascience.org/calendar/index.php?com=details&eID=37654
X-WR-RELCALID:BayAreaScience.org Unistellar Citizen Science Q&A (Part 5) - Livestream 20250206T110000
X-WR-TIMEZONE:America/New_York
X-WR-CALNAME:BayAreaScience.org
BEGIN:VEVENT
URL;VALUE=URI:https://www.bayareascience.org/calendar/index.php?com=detail&eID=37654
DTSTART:20250206T110000
DTEND:20250206T233000
SUMMARY:Unistellar Citizen Science Q&A (Part 5) - Livestream
DESCRIPTION:Join Dr. Franck Marchis\, Chief Science Officer and co-founder at Unistellar and director of Citizen Science at SETI Institute\, and Dr. Lauren Sgro\, Outreach Manager at...\n______________________________\nThis Event Downloaded From a Helios Calendar Powered Site
LOCATION:SETI Institute -  \, \, CA  
CATEGORIES:BayAreaScience.org Events
PRIORITY:0
TRANSP:TRANSPARENT
END:VEVENT
END:VCALENDAR