BEGIN:VCALENDAR
VERSION:2.0
METHOD:PUBLISH
CALSCALE:GREGORIAN
PRODID:-//Refresh Web Development//Helios Calendar//EN
X-FROM-URL:https://www.bayareascience.org/calendar/index.php?com=details&eID=37655
X-WR-RELCALID:BayAreaScience.org Astro 101: Sights of the Cosmos, Intro to Astronomy - Livestream 20250207T190000
X-WR-TIMEZONE:America/New_York
X-WR-CALNAME:BayAreaScience.org
BEGIN:VEVENT
URL;VALUE=URI:https://www.bayareascience.org/calendar/index.php?com=detail&eID=37655
DTSTART:20250207T190000
DTEND:20250207T190000
SUMMARY:Astro 101: Sights of the Cosmos\, Intro to Astronomy - Livestream
DESCRIPTION:During this hour\, you'll gain an appreciation for the size and scale of the cosmos and our place within it. You'll see many examples of the beautiful objects visible in the night sky\,...\n______________________________\nThis Event Downloaded From a Helios Calendar Powered Site
LOCATION:San Jose Astronomy -  \, \, CA  
CATEGORIES:BayAreaScience.org Events
PRIORITY:0
TRANSP:TRANSPARENT
END:VEVENT
END:VCALENDAR