BEGIN:VCALENDAR
VERSION:2.0
METHOD:PUBLISH
CALSCALE:GREGORIAN
PRODID:-//Refresh Web Development//Helios Calendar//EN
X-FROM-URL:https://www.bayareascience.org/calendar/index.php?com=details&eID=37663
X-WR-RELCALID:BayAreaScience.org 'Try It and See' Film Presentation 20250220T193000
X-WR-TIMEZONE:America/New_York
X-WR-CALNAME:BayAreaScience.org
BEGIN:VEVENT
URL;VALUE=URI:https://www.bayareascience.org/calendar/index.php?com=detail&eID=37663
DTSTART:20250220T193000
DTEND:20250220T213000
SUMMARY:'Try It and See' Film Presentation
DESCRIPTION:Are you interested in mushrooms for dying fabric? BAMS is hosting an exclusive presentation of this beautiful film\, which showcases the early work of two well known Mendocino mycologists\, the pioneering...\n______________________________\nThis Event Downloaded From a Helios Calendar Powered Site
LOCATION:Bay Area Mycological Society - Valley Life Sciences Building Room 1002\, UC Berkeley\, Berkeley\, CA  94720
CATEGORIES:BayAreaScience.org Events
PRIORITY:0
TRANSP:TRANSPARENT
END:VEVENT
END:VCALENDAR