BEGIN:VCALENDAR
VERSION:2.0
METHOD:PUBLISH
CALSCALE:GREGORIAN
PRODID:-//Refresh Web Development//Helios Calendar//EN
X-FROM-URL:https://www.bayareascience.org/calendar/index.php?com=details&eID=37668
X-WR-RELCALID:BayAreaScience.org An Evening with Amy Tan: The Backyard Bird Chronicles - Livestream 20250225T190000
X-WR-TIMEZONE:America/New_York
X-WR-CALNAME:BayAreaScience.org
BEGIN:VEVENT
URL;VALUE=URI:https://www.bayareascience.org/calendar/index.php?com=detail&eID=37668
DTSTART:20250225T190000
DTEND:20250225T203000
SUMMARY:An Evening with Amy Tan: The Backyard Bird Chronicles - Livestream
DESCRIPTION:Join POST for a special evening with New York Times bestselling author Amy Tan\, known for her iconic novel \n______________________________\nThis Event Downloaded From a Helios Calendar Powered Site
LOCATION:Mountain View Center for the Performing Arts - 500 Castro St \, Mountain View\, CA  94041
CATEGORIES:BayAreaScience.org Events
PRIORITY:0
TRANSP:TRANSPARENT
END:VEVENT
END:VCALENDAR