BEGIN:VCALENDAR
VERSION:2.0
METHOD:PUBLISH
CALSCALE:GREGORIAN
PRODID:-//Refresh Web Development//Helios Calendar//EN
X-FROM-URL:https://www.bayareascience.org/calendar/index.php?com=details&eID=37669
X-WR-RELCALID:BayAreaScience.org Morning Hike at Lower La Honda Creek 20250302T090000
X-WR-TIMEZONE:America/New_York
X-WR-CALNAME:BayAreaScience.org
BEGIN:VEVENT
URL;VALUE=URI:https://www.bayareascience.org/calendar/index.php?com=detail&eID=37669
DTSTART:20250302T090000
DTEND:20250302T130000
SUMMARY:Morning Hike at Lower La Honda Creek
DESCRIPTION:Join Peninsula Open Space Trust for a beautiful hike at Lower La Honda Creek Open Space Preserve where you’ll experience the area’s sweeping views and gorgeous rolling grasslands! The preserve...\n______________________________\nThis Event Downloaded From a Helios Calendar Powered Site
LOCATION:La Honda Creek Open Space Preserve - 900 Sears Ranch Rd Sears Ranch Parking Area\, La Honda\, CA  94020
CATEGORIES:BayAreaScience.org Events
PRIORITY:0
TRANSP:TRANSPARENT
END:VEVENT
END:VCALENDAR