BEGIN:VCALENDAR
VERSION:2.0
METHOD:PUBLISH
CALSCALE:GREGORIAN
PRODID:-//Refresh Web Development//Helios Calendar//EN
X-FROM-URL:https://www.bayareascience.org/calendar/index.php?com=details&eID=37678
X-WR-RELCALID:BayAreaScience.org Architecting Fault-Tolerant Quantum Computers for Today and Tomorrow 20250213T130000
X-WR-TIMEZONE:America/New_York
X-WR-CALNAME:BayAreaScience.org
BEGIN:VEVENT
URL;VALUE=URI:https://www.bayareascience.org/calendar/index.php?com=detail&eID=37678
DTSTART:20250213T130000
DTEND:20250213T140000
SUMMARY:Architecting Fault-Tolerant Quantum Computers for Today and Tomorrow
DESCRIPTION:Quantum computers represent a new computing paradigm and have the potential to serve as a disruptive tool for scientific discovery and practical applications. However\, they face the fundamental...\n______________________________\nThis Event Downloaded From a Helios Calendar Powered Site
LOCATION:Cory Hall - UC Berkeley Room 540 A/B\, Berkeley\, CA  94720
CATEGORIES:BayAreaScience.org Events
PRIORITY:0
TRANSP:TRANSPARENT
END:VEVENT
END:VCALENDAR