BEGIN:VCALENDAR
VERSION:2.0
METHOD:PUBLISH
CALSCALE:GREGORIAN
PRODID:-//Refresh Web Development//Helios Calendar//EN
X-FROM-URL:https://www.bayareascience.org/calendar/index.php?com=details&eID=37680
X-WR-RELCALID:BayAreaScience.org The Dragonfly mission to Titan, and the search for life in other liquids 20250222T193000
X-WR-TIMEZONE:America/New_York
X-WR-CALNAME:BayAreaScience.org
BEGIN:VEVENT
URL;VALUE=URI:https://www.bayareascience.org/calendar/index.php?com=detail&eID=37680
DTSTART:20250222T193000
DTEND:20250222T210000
SUMMARY:The Dragonfly mission to Titan\, and the search for life in other liquids
DESCRIPTION:The Dragonfly mission to Titan is...\n______________________________\nThis Event Downloaded From a Helios Calendar Powered Site
LOCATION:East Bay Astronomical Society - Chabot Space & Science Center\, 10000 Skyline Blvd Classroom 4 formerly knows as Copernicus\, Oakland\, CA  94619
CATEGORIES:BayAreaScience.org Events
PRIORITY:0
TRANSP:TRANSPARENT
END:VEVENT
END:VCALENDAR