BEGIN:VCALENDAR
VERSION:2.0
METHOD:PUBLISH
CALSCALE:GREGORIAN
PRODID:-//Refresh Web Development//Helios Calendar//EN
X-FROM-URL:https://www.bayareascience.org/calendar/index.php?com=details&eID=37681
X-WR-RELCALID:BayAreaScience.org A Conversation with Eric Schmidt - Livestream 20250307T140000
X-WR-TIMEZONE:America/New_York
X-WR-CALNAME:BayAreaScience.org
BEGIN:VEVENT
URL;VALUE=URI:https://www.bayareascience.org/calendar/index.php?com=detail&eID=37681
DTSTART:20250307T140000
DTEND:20250307T150000
SUMMARY:A Conversation with Eric Schmidt - Livestream
DESCRIPTION:Join us for a conversation...\n______________________________\nThis Event Downloaded From a Helios Calendar Powered Site
LOCATION:PARC Forum - 3333 Coyote Hill Road Palo Alto Research Center\, George E. Pake Auditorium\, Palo Alto\, CA USA 94304
CATEGORIES:BayAreaScience.org Events
PRIORITY:0
TRANSP:TRANSPARENT
END:VEVENT
END:VCALENDAR