BEGIN:VCALENDAR
VERSION:2.0
METHOD:PUBLISH
CALSCALE:GREGORIAN
PRODID:-//Refresh Web Development//Helios Calendar//EN
X-FROM-URL:https://www.bayareascience.org/calendar/index.php?com=details&eID=37684
X-WR-RELCALID:BayAreaScience.org Building Advanced AI Applications and Agents in One Hour 20250224T183000
X-WR-TIMEZONE:America/New_York
X-WR-CALNAME:BayAreaScience.org
BEGIN:VEVENT
URL;VALUE=URI:https://www.bayareascience.org/calendar/index.php?com=detail&eID=37684
DTSTART:20250224T183000
DTEND:20250224T211500
SUMMARY:Building Advanced AI Applications and Agents in One Hour
DESCRIPTION:This...\n______________________________\nThis Event Downloaded From a Helios Calendar Powered Site
LOCATION:Valley Research Park - 319 N Bernardo Ave \, Mountain View\, CA  94043
CATEGORIES:BayAreaScience.org Events
PRIORITY:0
TRANSP:TRANSPARENT
END:VEVENT
END:VCALENDAR