BEGIN:VCALENDAR
VERSION:2.0
METHOD:PUBLISH
CALSCALE:GREGORIAN
PRODID:-//Refresh Web Development//Helios Calendar//EN
X-FROM-URL:https://www.bayareascience.org/calendar/index.php?com=details&eID=37692
X-WR-RELCALID:BayAreaScience.org What are quantum computers good for? 20250210T160000
X-WR-TIMEZONE:America/New_York
X-WR-CALNAME:BayAreaScience.org
BEGIN:VEVENT
URL;VALUE=URI:https://www.bayareascience.org/calendar/index.php?com=detail&eID=37692
DTSTART:20250210T160000
DTEND:20250210T160000
SUMMARY:What are quantum computers good for?
DESCRIPTION:Quantum computers - computers which exploit quantum mechanics - are poised to reshape the landscape of computation. But understanding when ‘quantum’ can help speed up algorithmic tasks is tricky\,...\n______________________________\nThis Event Downloaded From a Helios Calendar Powered Site
LOCATION:Soda Hall - UC Berkeley Wozniak Lounge\, Berkeley\, CA  94720
CATEGORIES:BayAreaScience.org Events
PRIORITY:0
TRANSP:TRANSPARENT
END:VEVENT
END:VCALENDAR