BEGIN:VCALENDAR
VERSION:2.0
METHOD:PUBLISH
CALSCALE:GREGORIAN
PRODID:-//Refresh Web Development//Helios Calendar//EN
X-FROM-URL:https://www.bayareascience.org/calendar/index.php?com=details&eID=37699
X-WR-RELCALID:BayAreaScience.org Copernicus 4.0: How Our Views of Earth's Importance and the Search for Life are Changing 20250305T190000
X-WR-TIMEZONE:America/New_York
X-WR-CALNAME:BayAreaScience.org
BEGIN:VEVENT
URL;VALUE=URI:https://www.bayareascience.org/calendar/index.php?com=detail&eID=37699
DTSTART:20250305T190000
DTEND:20250305T203000
SUMMARY:Copernicus 4.0: How Our Views of Earth's Importance and the Search for Life are Changing
DESCRIPTION:\n______________________________\nThis Event Downloaded From a Helios Calendar Powered Site
LOCATION:Silicon Valley Astronomy Lecture Series - Foothill College Smithwick Theater\, Los Altos Hills\, CA  94022
CATEGORIES:BayAreaScience.org Events
PRIORITY:0
TRANSP:TRANSPARENT
END:VEVENT
END:VCALENDAR