BEGIN:VCALENDAR
VERSION:2.0
METHOD:PUBLISH
CALSCALE:GREGORIAN
PRODID:-//Refresh Web Development//Helios Calendar//EN
X-FROM-URL:https://www.bayareascience.org/calendar/index.php?com=details&eID=37702
X-WR-RELCALID:BayAreaScience.org 'Legion 44' 20250211T170000
X-WR-TIMEZONE:America/New_York
X-WR-CALNAME:BayAreaScience.org
BEGIN:VEVENT
URL;VALUE=URI:https://www.bayareascience.org/calendar/index.php?com=detail&eID=37702
DTSTART:20250211T170000
DTEND:20250211T204500
SUMMARY:'Legion 44'
DESCRIPTION:You are invited to a screening of Legion 44\, a documentary film about the rise of Carbon Dioxide Removal (CDR).Join...\n______________________________\nThis Event Downloaded From a Helios Calendar Powered Site
LOCATION:Traitel Building - 435 Lasuen Mall Hauck Auditorium\, Stanford\, CA  94305
CATEGORIES:BayAreaScience.org Events
PRIORITY:0
TRANSP:TRANSPARENT
END:VEVENT
END:VCALENDAR