BEGIN:VCALENDAR
VERSION:2.0
METHOD:PUBLISH
CALSCALE:GREGORIAN
PRODID:-//Refresh Web Development//Helios Calendar//EN
X-FROM-URL:https://www.bayareascience.org/calendar/index.php?com=details&eID=37712
X-WR-RELCALID:BayAreaScience.org Lunar Eclipse Observation - CANCELED 20250313T220000
X-WR-TIMEZONE:America/New_York
X-WR-CALNAME:BayAreaScience.org
BEGIN:VEVENT
URL;VALUE=URI:https://www.bayareascience.org/calendar/index.php?com=detail&eID=37712
DTSTART:20250313T220000
DTEND:20250314T003000
SUMMARY:Lunar Eclipse Observation - CANCELED
DESCRIPTION:Come to the Foothill Observatory to see the moon pass through Earth's shadow.  The Foothill College Astronomy Department and the Peninsula Astronomical Society will open the observatory and have...\n______________________________\nThis Event Downloaded From a Helios Calendar Powered Site
LOCATION:Foothill College - 12345 El Monte Rd \, Los Altos Hills\, CA  94022
CATEGORIES:BayAreaScience.org Events
PRIORITY:0
TRANSP:TRANSPARENT
END:VEVENT
END:VCALENDAR