BEGIN:VCALENDAR
VERSION:2.0
METHOD:PUBLISH
CALSCALE:GREGORIAN
PRODID:-//Refresh Web Development//Helios Calendar//EN
X-FROM-URL:https://www.bayareascience.org/calendar/index.php?com=details&eID=37717
X-WR-RELCALID:BayAreaScience.org February LASER Event - Livestream 20250218T120000
X-WR-TIMEZONE:America/New_York
X-WR-CALNAME:BayAreaScience.org
BEGIN:VEVENT
URL;VALUE=URI:https://www.bayareascience.org/calendar/index.php?com=detail&eID=37717
DTSTART:20250218T120000
DTEND:20250218T120000
SUMMARY:February LASER Event - Livestream
DESCRIPTION: Christina Agapakis (UCLA) on "AI as feminist technology:...\n______________________________\nThis Event Downloaded From a Helios Calendar Powered Site
LOCATION:Leonardo Art/Science Evening Rendezvous -  \, \, CA  
CATEGORIES:BayAreaScience.org Events
PRIORITY:0
TRANSP:TRANSPARENT
END:VEVENT
END:VCALENDAR