BEGIN:VCALENDAR
VERSION:2.0
METHOD:PUBLISH
CALSCALE:GREGORIAN
PRODID:-//Refresh Web Development//Helios Calendar//EN
X-FROM-URL:https://www.bayareascience.org/calendar/index.php?com=details&eID=37720
X-WR-RELCALID:BayAreaScience.org Countering the Next Phase of American Anti-Vaccine Activism 20250220T160000
X-WR-TIMEZONE:America/New_York
X-WR-CALNAME:BayAreaScience.org
BEGIN:VEVENT
URL;VALUE=URI:https://www.bayareascience.org/calendar/index.php?com=detail&eID=37720
DTSTART:20250220T160000
DTEND:20250220T160000
SUMMARY:Countering the Next Phase of American Anti-Vaccine Activism
DESCRIPTION:Anti-vaccine activism has been present throughout American history\, but the movement gained considerable momentum in the twenty-first century based on false claims that vaccines cause...\n______________________________\nThis Event Downloaded From a Helios Calendar Powered Site
LOCATION:Skeptical Inquirer -  \, \, CA  
CATEGORIES:BayAreaScience.org Events
PRIORITY:0
TRANSP:TRANSPARENT
END:VEVENT
END:VCALENDAR