BEGIN:VCALENDAR
VERSION:2.0
METHOD:PUBLISH
CALSCALE:GREGORIAN
PRODID:-//Refresh Web Development//Helios Calendar//EN
X-FROM-URL:https://www.bayareascience.org/calendar/index.php?com=details&eID=37723
X-WR-RELCALID:BayAreaScience.org  AI and the Future of Citizenship: Preparing for a Digital Democracy 20250224T180000
X-WR-TIMEZONE:America/New_York
X-WR-CALNAME:BayAreaScience.org
BEGIN:VEVENT
URL;VALUE=URI:https://www.bayareascience.org/calendar/index.php?com=detail&eID=37723
DTSTART:20250224T180000
DTEND:20250224T190000
SUMMARY: AI and the Future of Citizenship: Preparing for a Digital Democracy
DESCRIPTION:As artificial intelligence becomes an ever-present force in our lives\, it’s clear that this technology is not going away. And as it continues to transform education\, governance and civic engagement\,...\n______________________________\nThis Event Downloaded From a Helios Calendar Powered Site
LOCATION:Commonwealth Club - 110 The Embarcadero \, San Francisco\, CA  94105
CATEGORIES:BayAreaScience.org Events
PRIORITY:0
TRANSP:TRANSPARENT
END:VEVENT
END:VCALENDAR