BEGIN:VCALENDAR
VERSION:2.0
METHOD:PUBLISH
CALSCALE:GREGORIAN
PRODID:-//Refresh Web Development//Helios Calendar//EN
X-FROM-URL:https://www.bayareascience.org/calendar/index.php?com=details&eID=37742
X-WR-RELCALID:BayAreaScience.org Astro 101: From the Big Bang to Biosignatures 20250221T180000
X-WR-TIMEZONE:America/New_York
X-WR-CALNAME:BayAreaScience.org
BEGIN:VEVENT
URL;VALUE=URI:https://www.bayareascience.org/calendar/index.php?com=detail&eID=37742
DTSTART:20250221T180000
DTEND:20250221T190000
SUMMARY:Astro 101: From the Big Bang to Biosignatures
DESCRIPTION:This event is one of several different introductions to astronomy offered by SJAA. During this hour\, you'll take a tour through our universe's 13.8 billion...\n______________________________\nThis Event Downloaded From a Helios Calendar Powered Site
LOCATION:San Jose Astronomical Association - Houge Park 3972 Twilight Drive\, San Jose\, CA  95124
CATEGORIES:BayAreaScience.org Events
PRIORITY:0
TRANSP:TRANSPARENT
END:VEVENT
END:VCALENDAR