BEGIN:VCALENDAR
VERSION:2.0
METHOD:PUBLISH
CALSCALE:GREGORIAN
PRODID:-//Refresh Web Development//Helios Calendar//EN
X-FROM-URL:https://www.bayareascience.org/calendar/index.php?com=details&eID=37743
X-WR-RELCALID:BayAreaScience.org Sonoma Mycological Association General Meeting: David Arora 20250314T180000
X-WR-TIMEZONE:America/New_York
X-WR-CALNAME:BayAreaScience.org
BEGIN:VEVENT
URL;VALUE=URI:https://www.bayareascience.org/calendar/index.php?com=detail&eID=37743
DTSTART:20250314T180000
DTEND:20250314T210000
SUMMARY:Sonoma Mycological Association General Meeting: David Arora
DESCRIPTION:David Arora’s Wheel of FungiJoin us with the esteemed mycologist for a variety of mushroom-related topics across Asia\, Africa\, and California!\n______________________________\nThis Event Downloaded From a Helios Calendar Powered Site
LOCATION:Sebastopol Grange - 6000 Sebastopol Ave Hwy 12\, Sebastopol\, CA  95472
CATEGORIES:BayAreaScience.org Events
PRIORITY:0
TRANSP:TRANSPARENT
END:VEVENT
END:VCALENDAR