BEGIN:VCALENDAR
VERSION:2.0
METHOD:PUBLISH
CALSCALE:GREGORIAN
PRODID:-//Refresh Web Development//Helios Calendar//EN
X-FROM-URL:https://www.bayareascience.org/calendar/index.php?com=details&eID=37748
X-WR-RELCALID:BayAreaScience.org Cinema Arts: 'Universe in a Grain of Sand' 20250308T133000
X-WR-TIMEZONE:America/New_York
X-WR-CALNAME:BayAreaScience.org
BEGIN:VEVENT
URL;VALUE=URI:https://www.bayareascience.org/calendar/index.php?com=detail&eID=37748
DTSTART:20250308T133000
DTEND:20250308T150000
SUMMARY:Cinema Arts: 'Universe in a Grain of Sand'
DESCRIPTION:How do we make sense of the world around us? Our understanding of nature is shaped by the tools we create to observe it. Both scientists and artists have pushed the frontiers of understanding through...\n______________________________\nThis Event Downloaded From a Helios Calendar Powered Site
LOCATION:ExplOratorium - Pier 15 (Embarcadero at Green Street)  \, San Francisco\, CA USA 94111
CATEGORIES:BayAreaScience.org Events
PRIORITY:0
TRANSP:TRANSPARENT
END:VEVENT
END:VCALENDAR