BEGIN:VCALENDAR
VERSION:2.0
METHOD:PUBLISH
CALSCALE:GREGORIAN
PRODID:-//Refresh Web Development//Helios Calendar//EN
X-FROM-URL:https://www.bayareascience.org/calendar/index.php?com=details&eID=37751
X-WR-RELCALID:BayAreaScience.org Offshore Wind Energy Project: Morro Bay California Out of Sight Maybe, But Out of Mind Definitely Not - Livestream 20250226T173000
X-WR-TIMEZONE:America/New_York
X-WR-CALNAME:BayAreaScience.org
BEGIN:VEVENT
URL;VALUE=URI:https://www.bayareascience.org/calendar/index.php?com=detail&eID=37751
DTSTART:20250226T173000
DTEND:20250226T193000
SUMMARY:Offshore Wind Energy Project: Morro Bay California Out of Sight Maybe\, But Out of Mind Definitely Not - Livestream
DESCRIPTION:In December 2022\, the U.S. Federal Government auctioned offshore wind leases over 583 square miles of ocean waters off Humboldt Bay in Northern California\, as well as near the Central Coast’s...\n______________________________\nThis Event Downloaded From a Helios Calendar Powered Site
LOCATION:Stanford Energy Science and Engineering -  \, \, CA  
CATEGORIES:BayAreaScience.org Events
PRIORITY:0
TRANSP:TRANSPARENT
END:VEVENT
END:VCALENDAR