BEGIN:VCALENDAR
VERSION:2.0
METHOD:PUBLISH
CALSCALE:GREGORIAN
PRODID:-//Refresh Web Development//Helios Calendar//EN
X-FROM-URL:https://www.bayareascience.org/calendar/index.php?com=details&eID=37759
X-WR-RELCALID:BayAreaScience.org The Ocean's Stories Symposium - Afternoon Session 20250320T133000
X-WR-TIMEZONE:America/New_York
X-WR-CALNAME:BayAreaScience.org
BEGIN:VEVENT
URL;VALUE=URI:https://www.bayareascience.org/calendar/index.php?com=detail&eID=37759
DTSTART:20250320T133000
DTEND:20250320T170000
SUMMARY:The Ocean's Stories Symposium - Afternoon Session
DESCRIPTION:Join us for a transformative day focused on the future of our oceans. Through lightning talks\, expert panels and an inspiring keynote address\, we’ll explore the critical role oceans play in our...\n______________________________\nThis Event Downloaded From a Helios Calendar Powered Site
LOCATION:David Brower Center - 2150 Allston Way \, Berkeley\, CA  94704
CATEGORIES:BayAreaScience.org Events
PRIORITY:0
TRANSP:TRANSPARENT
END:VEVENT
END:VCALENDAR