BEGIN:VCALENDAR
VERSION:2.0
METHOD:PUBLISH
CALSCALE:GREGORIAN
PRODID:-//Refresh Web Development//Helios Calendar//EN
X-FROM-URL:https://www.bayareascience.org/calendar/index.php?com=details&eID=37761
X-WR-RELCALID:BayAreaScience.org Back-propagating Ruptures in Fast and Slow Earthquakes 20250220T130000
X-WR-TIMEZONE:America/New_York
X-WR-CALNAME:BayAreaScience.org
BEGIN:VEVENT
URL;VALUE=URI:https://www.bayareascience.org/calendar/index.php?com=detail&eID=37761
DTSTART:20250220T130000
DTEND:20250220T130000
SUMMARY:Back-propagating Ruptures in Fast and Slow Earthquakes
DESCRIPTION:Back-propagating ruptures\, characterized by a secondary front reversing into previously ruptured regions - such as boomerang earthquakes and rapid tremor reversals - have been recently documented...\n______________________________\nThis Event Downloaded From a Helios Calendar Powered Site
LOCATION:Mitchell Earth Sciences Building (04-560) - 397 Panama Mall Stanford University\, Stanford\, CA  94305
CATEGORIES:BayAreaScience.org Events
PRIORITY:0
TRANSP:TRANSPARENT
END:VEVENT
END:VCALENDAR