BEGIN:VCALENDAR
VERSION:2.0
METHOD:PUBLISH
CALSCALE:GREGORIAN
PRODID:-//Refresh Web Development//Helios Calendar//EN
X-FROM-URL:https://www.bayareascience.org/calendar/index.php?com=details&eID=37770
X-WR-RELCALID:BayAreaScience.org Stewardship Saturday: Navigating the Intricacies of Rehabilitation 20250329T100000
X-WR-TIMEZONE:America/New_York
X-WR-CALNAME:BayAreaScience.org
BEGIN:VEVENT
URL;VALUE=URI:https://www.bayareascience.org/calendar/index.php?com=detail&eID=37770
DTSTART:20250329T100000
DTEND:20250329T141500
SUMMARY:Stewardship Saturday: Navigating the Intricacies of Rehabilitation
DESCRIPTION:This free program for high school students features rotating events along our 600-mile range exploring various realms of conservation.Join Sonoma County Wildlife Rescue...\n______________________________\nThis Event Downloaded From a Helios Calendar Powered Site
LOCATION:Sonoma County Wildlife Rescue - 403 Meacham Rd \, Petaluma\, CA  94952
CATEGORIES:BayAreaScience.org Events
PRIORITY:0
TRANSP:TRANSPARENT
END:VEVENT
END:VCALENDAR