BEGIN:VCALENDAR
VERSION:2.0
METHOD:PUBLISH
CALSCALE:GREGORIAN
PRODID:-//Refresh Web Development//Helios Calendar//EN
X-FROM-URL:https://www.bayareascience.org/calendar/index.php?com=details&eID=37773
X-WR-RELCALID:BayAreaScience.org Rules, Regulations, and Randomness: From Biological to Social Systems 20250227T153000
X-WR-TIMEZONE:America/New_York
X-WR-CALNAME:BayAreaScience.org
BEGIN:VEVENT
URL;VALUE=URI:https://www.bayareascience.org/calendar/index.php?com=detail&eID=37773
DTSTART:20250227T153000
DTEND:20250227T163000
SUMMARY:Rules\, Regulations\, and Randomness: From Biological to Social Systems
DESCRIPTION:Across both biological and social systems\, rules and regulations play a crucial role in ensuring robustness and resistance to fluctuations across diverse environments. The expansion of rule systems...\n______________________________\nThis Event Downloaded From a Helios Calendar Powered Site
LOCATION:Weill Hall - UC Berkeley Room 101\, Berkeley\, CA  94720
CATEGORIES:BayAreaScience.org Events
PRIORITY:0
TRANSP:TRANSPARENT
END:VEVENT
END:VCALENDAR