BEGIN:VCALENDAR
VERSION:2.0
METHOD:PUBLISH
CALSCALE:GREGORIAN
PRODID:-//Refresh Web Development//Helios Calendar//EN
X-FROM-URL:https://www.bayareascience.org/calendar/index.php?com=details&eID=37775
X-WR-RELCALID:BayAreaScience.org SETI Live: Amino Acids on Bennu! Building Blocks for Life Detected in Asteroid Bennu Samples 20250313T143000
X-WR-TIMEZONE:America/New_York
X-WR-CALNAME:BayAreaScience.org
BEGIN:VEVENT
URL;VALUE=URI:https://www.bayareascience.org/calendar/index.php?com=detail&eID=37775
DTSTART:20250313T143000
DTEND:20250313T150000
SUMMARY:SETI Live: Amino Acids on Bennu! Building Blocks for Life Detected in Asteroid Bennu Samples
DESCRIPTION:The OSIRIS-REx (Origins\, Spectral Interpretation\, Resource Identification and Security - Regolith Explorer) mission has been a resounding success so far\, from taking...\n______________________________\nThis Event Downloaded From a Helios Calendar Powered Site
LOCATION:SETI Institute -  \, \, CA  
CATEGORIES:BayAreaScience.org Events
PRIORITY:0
TRANSP:TRANSPARENT
END:VEVENT
END:VCALENDAR