BEGIN:VCALENDAR
VERSION:2.0
METHOD:PUBLISH
CALSCALE:GREGORIAN
PRODID:-//Refresh Web Development//Helios Calendar//EN
X-FROM-URL:https://www.bayareascience.org/calendar/index.php?com=details&eID=37784
X-WR-RELCALID:BayAreaScience.org Vaccination and its Historical Discontents - Livestream 20250428T140000
X-WR-TIMEZONE:America/New_York
X-WR-CALNAME:BayAreaScience.org
BEGIN:VEVENT
URL;VALUE=URI:https://www.bayareascience.org/calendar/index.php?com=detail&eID=37784
DTSTART:20250428T140000
DTEND:20250428T153000
SUMMARY:Vaccination and its Historical Discontents - Livestream
DESCRIPTION:Hesitancy and resistance to vaccination is more common than not in U.S. history. This talk will explain how and why public attitudes toward vaccination have changed over time\, with an emphasis...\n______________________________\nThis Event Downloaded From a Helios Calendar Powered Site
LOCATION:UC Berkeley -  \, \, CA  
CATEGORIES:BayAreaScience.org Events
PRIORITY:0
TRANSP:TRANSPARENT
END:VEVENT
END:VCALENDAR