BEGIN:VCALENDAR
VERSION:2.0
METHOD:PUBLISH
CALSCALE:GREGORIAN
PRODID:-//Refresh Web Development//Helios Calendar//EN
X-FROM-URL:https://www.bayareascience.org/calendar/index.php?com=details&eID=37787
X-WR-RELCALID:BayAreaScience.org Understanding Abstraction and Conceptual Representation Across Development and Across Species 20250224T121000
X-WR-TIMEZONE:America/New_York
X-WR-CALNAME:BayAreaScience.org
BEGIN:VEVENT
URL;VALUE=URI:https://www.bayareascience.org/calendar/index.php?com=detail&eID=37787
DTSTART:20250224T121000
DTEND:20250224T133000
SUMMARY:Understanding Abstraction and Conceptual Representation Across Development and Across Species
DESCRIPTION:Imagine encountering a novel fruit. Even though you have never seen it before\, you will be able to make a number of predictions about it: it may be edible\, it may have seeds\, and the tree it’s...\n______________________________\nThis Event Downloaded From a Helios Calendar Powered Site
LOCATION:Berkeley Way West - UC Berkeley\, Room 3101 2121 Berkeley Way\, Berkeley\, CA  94720
CATEGORIES:BayAreaScience.org Events
PRIORITY:0
TRANSP:TRANSPARENT
END:VEVENT
END:VCALENDAR