BEGIN:VCALENDAR
VERSION:2.0
METHOD:PUBLISH
CALSCALE:GREGORIAN
PRODID:-//Refresh Web Development//Helios Calendar//EN
X-FROM-URL:https://www.bayareascience.org/calendar/index.php?com=details&eID=37801
X-WR-RELCALID:BayAreaScience.org An Evening with Kara Swisher 20250326T190000
X-WR-TIMEZONE:America/New_York
X-WR-CALNAME:BayAreaScience.org
BEGIN:VEVENT
URL;VALUE=URI:https://www.bayareascience.org/calendar/index.php?com=detail&eID=37801
DTSTART:20250326T190000
DTEND:20250326T210000
SUMMARY:An Evening with Kara Swisher
DESCRIPTION:Just when we thought the era of “move fast and break things” might be over\, the biggest tech billionaire of them all has moved lightning-quick to “fix” the federal government. Who better...\n______________________________\nThis Event Downloaded From a Helios Calendar Powered Site
LOCATION:Jewish Community Center - 3200 California Street \, San Francisco\, CA USA 94118
CATEGORIES:BayAreaScience.org Events
PRIORITY:0
TRANSP:TRANSPARENT
END:VEVENT
END:VCALENDAR