BEGIN:VCALENDAR
VERSION:2.0
METHOD:PUBLISH
CALSCALE:GREGORIAN
PRODID:-//Refresh Web Development//Helios Calendar//EN
X-FROM-URL:https://www.bayareascience.org/calendar/index.php?com=details&eID=37803
X-WR-RELCALID:BayAreaScience.org Impact of Environmental Disasters on Drinking Water Infrastructure 20250226T090000
X-WR-TIMEZONE:America/New_York
X-WR-CALNAME:BayAreaScience.org
BEGIN:VEVENT
URL;VALUE=URI:https://www.bayareascience.org/calendar/index.php?com=detail&eID=37803
DTSTART:20250226T090000
DTEND:20250226T090000
SUMMARY:Impact of Environmental Disasters on Drinking Water Infrastructure
DESCRIPTION:The frequency and intensity of environmental disasters\, both natural (e.g. wildfires and hurricanes) and human caused (i.e. chemical spills)\, is increasing and public drinking water systems operating...\n______________________________\nThis Event Downloaded From a Helios Calendar Powered Site
LOCATION:Spilker Hall - Stanford University Room 232\, Stanford\, CA  94305
CATEGORIES:BayAreaScience.org Events
PRIORITY:0
TRANSP:TRANSPARENT
END:VEVENT
END:VCALENDAR