BEGIN:VCALENDAR
VERSION:2.0
METHOD:PUBLISH
CALSCALE:GREGORIAN
PRODID:-//Refresh Web Development//Helios Calendar//EN
X-FROM-URL:https://www.bayareascience.org/calendar/index.php?com=details&eID=37809
X-WR-RELCALID:BayAreaScience.org The Origins of Silicon Valley: Why and How It Happened Here 20250325T183000
X-WR-TIMEZONE:America/New_York
X-WR-CALNAME:BayAreaScience.org
BEGIN:VEVENT
URL;VALUE=URI:https://www.bayareascience.org/calendar/index.php?com=detail&eID=37809
DTSTART:20250325T183000
DTEND:20250325T183000
SUMMARY:The Origins of Silicon Valley: Why and How It Happened Here
DESCRIPTION:The Saratoga Historical Foundation...\n______________________________\nThis Event Downloaded From a Helios Calendar Powered Site
LOCATION:Immanuel Event Center - 14103 Saratoga Ave \, Saratoga\, CA  95070
CATEGORIES:BayAreaScience.org Events
PRIORITY:0
TRANSP:TRANSPARENT
END:VEVENT
END:VCALENDAR