BEGIN:VCALENDAR
VERSION:2.0
METHOD:PUBLISH
CALSCALE:GREGORIAN
PRODID:-//Refresh Web Development//Helios Calendar//EN
X-FROM-URL:https://www.bayareascience.org/calendar/index.php?com=details&eID=37811
X-WR-RELCALID:BayAreaScience.org Tri-Valley Innovation Fair 20250412T100000
X-WR-TIMEZONE:America/New_York
X-WR-CALNAME:BayAreaScience.org
BEGIN:VEVENT
URL;VALUE=URI:https://www.bayareascience.org/calendar/index.php?com=detail&eID=37811
DTSTART:20250412T100000
DTEND:20250412T170000
SUMMARY:Tri-Valley Innovation Fair
DESCRIPTION:The Tri-Valley Innovation Fair is a free one day event designed to connect everyone to the excitement of science\, engineering\, and technology.  80+ exhibitors...\n______________________________\nThis Event Downloaded From a Helios Calendar Powered Site
LOCATION:Alameda County Fairgrounds - 4501 Pleasanton Ave \, Pleasanton\, CA  94566
CATEGORIES:BayAreaScience.org Events
PRIORITY:0
TRANSP:TRANSPARENT
END:VEVENT
END:VCALENDAR