BEGIN:VCALENDAR
VERSION:2.0
METHOD:PUBLISH
CALSCALE:GREGORIAN
PRODID:-//Refresh Web Development//Helios Calendar//EN
X-FROM-URL:https://www.bayareascience.org/calendar/index.php?com=details&eID=37814
X-WR-RELCALID:BayAreaScience.org The Hubble Deep Field 30 Years Later 20250325T193000
X-WR-TIMEZONE:America/New_York
X-WR-CALNAME:BayAreaScience.org
BEGIN:VEVENT
URL;VALUE=URI:https://www.bayareascience.org/calendar/index.php?com=detail&eID=37814
DTSTART:20250325T193000
DTEND:20250325T193000
SUMMARY:The Hubble Deep Field 30 Years Later
DESCRIPTION:Under the direction of then-director of the Space Telescope Science Institute\, Bob Williams\, the Hubble Space Telescope was pointed at a seemingly empty patch of sky for 10 days. The result of...\n______________________________\nThis Event Downloaded From a Helios Calendar Powered Site
LOCATION:Rio Theater - 1205 Soquel Ave \, Santa Cruz\, CA  95062
CATEGORIES:BayAreaScience.org Events
PRIORITY:0
TRANSP:TRANSPARENT
END:VEVENT
END:VCALENDAR