BEGIN:VCALENDAR
VERSION:2.0
METHOD:PUBLISH
CALSCALE:GREGORIAN
PRODID:-//Refresh Web Development//Helios Calendar//EN
X-FROM-URL:https://www.bayareascience.org/calendar/index.php?com=details&eID=37816
X-WR-RELCALID:BayAreaScience.org Waves of Change: Ensuring Equity in Coastal Access - Livestream 20250319T190000
X-WR-TIMEZONE:America/New_York
X-WR-CALNAME:BayAreaScience.org
BEGIN:VEVENT
URL;VALUE=URI:https://www.bayareascience.org/calendar/index.php?com=detail&eID=37816
DTSTART:20250319T190000
DTEND:20250319T203000
SUMMARY:Waves of Change: Ensuring Equity in Coastal Access - Livestream
DESCRIPTION:Many people across the Bay Area face safety\, cultural and economic barriers when trying to access our shared outdoor spaces. How can we begin to change this? Join us as we explore equitable ways...\n______________________________\nThis Event Downloaded From a Helios Calendar Powered Site
LOCATION:City of Sunnyvale -  \, \, CA  
CATEGORIES:BayAreaScience.org Events
PRIORITY:0
TRANSP:TRANSPARENT
END:VEVENT
END:VCALENDAR