BEGIN:VCALENDAR
VERSION:2.0
METHOD:PUBLISH
CALSCALE:GREGORIAN
PRODID:-//Refresh Web Development//Helios Calendar//EN
X-FROM-URL:https://www.bayareascience.org/calendar/index.php?com=details&eID=37824
X-WR-RELCALID:BayAreaScience.org Vector Media 20250313T170000
X-WR-TIMEZONE:America/New_York
X-WR-CALNAME:BayAreaScience.org
BEGIN:VEVENT
URL;VALUE=URI:https://www.bayareascience.org/calendar/index.php?com=detail&eID=37824
DTSTART:20250313T170000
DTEND:20250313T190000
SUMMARY:Vector Media
DESCRIPTION:The capability of neural networks to generate texts and images by learning from large amounts of data is often framed as both the most significant contribution and the most obvious flaw of contemporary...\n______________________________\nThis Event Downloaded From a Helios Calendar Powered Site
LOCATION:Dwinelle Hall - UC Berkeley Room 188\, Berkeley\, CA  94720
CATEGORIES:BayAreaScience.org Events
PRIORITY:0
TRANSP:TRANSPARENT
END:VEVENT
END:VCALENDAR