BEGIN:VCALENDAR
VERSION:2.0
METHOD:PUBLISH
CALSCALE:GREGORIAN
PRODID:-//Refresh Web Development//Helios Calendar//EN
X-FROM-URL:https://www.bayareascience.org/calendar/index.php?com=details&eID=37828
X-WR-RELCALID:BayAreaScience.org Elevated and Dangerous: Health Implication of High Nitrate in Central Valley Well Water  - Livestream 20250227T120000
X-WR-TIMEZONE:America/New_York
X-WR-CALNAME:BayAreaScience.org
BEGIN:VEVENT
URL;VALUE=URI:https://www.bayareascience.org/calendar/index.php?com=detail&eID=37828
DTSTART:20250227T120000
DTEND:20250227T130000
SUMMARY:Elevated and Dangerous: Health Implication of High Nitrate in Central Valley Well Water  - Livestream
DESCRIPTION:Join us as we discuss the upward trend in nitrate levels in Central Valley groundwater\, its link to dairy manure\, and its subsequent health concerns. The California Water Resources Control Board...\n______________________________\nThis Event Downloaded From a Helios Calendar Powered Site
LOCATION:Stanford University -  \, \, CA  
CATEGORIES:BayAreaScience.org Events
PRIORITY:0
TRANSP:TRANSPARENT
END:VEVENT
END:VCALENDAR