BEGIN:VCALENDAR
VERSION:2.0
METHOD:PUBLISH
CALSCALE:GREGORIAN
PRODID:-//Refresh Web Development//Helios Calendar//EN
X-FROM-URL:https://www.bayareascience.org/calendar/index.php?com=details&eID=37829
X-WR-RELCALID:BayAreaScience.org  Living with Lions: Coexistence with an Iconic American Carnivore 20250323T160000
X-WR-TIMEZONE:America/New_York
X-WR-CALNAME:BayAreaScience.org
BEGIN:VEVENT
URL;VALUE=URI:https://www.bayareascience.org/calendar/index.php?com=detail&eID=37829
DTSTART:20250323T160000
DTEND:20250323T173000
SUMMARY: Living with Lions: Coexistence with an Iconic American Carnivore
DESCRIPTION:Join Willow Camp for an exciting lineup of local speakers at their beautiful outdoor venue. The series features experts in various fields who will share their knowledge and insights with you.Large...\n______________________________\nThis Event Downloaded From a Helios Calendar Powered Site
LOCATION:Willow Camp - Willow Camp Way \, Stinson Beach\, CA  94970
CATEGORIES:BayAreaScience.org Events
PRIORITY:0
TRANSP:TRANSPARENT
END:VEVENT
END:VCALENDAR